BEGIN:VCALENDAR
VERSION:2.0
PRODID:SchoolNow
CALSCALE:GREGORIAN
BEGIN:VEVENT
UID:96b141c2-9d52-11ef-9268-02bf63dc6269
DTSTAMP:20241107T215231Z
SUMMARY:Wine Tasting - Jan. 17th
LOCATION:Activities Center
URL;VALUE=URI:https://www.wildernesslakecdd.org/calendar/6978840/wine-tasti
 ng-jan-17th
DTSTART:20250118T000000Z
DTEND:20250118T013000Z
END:VEVENT
END:VCALENDAR
