BEGIN:VCALENDAR
VERSION:2.0
PRODID:SchoolNow
CALSCALE:GREGORIAN
BEGIN:VEVENT
UID:44ffac92-9d52-11ef-95e5-0a58a9feac02
DTSTAMP:20241107T215014Z
SUMMARY:Sunday Crafternoon - Jan. 12th
URL;VALUE=URI:https://www.wildernesslakecdd.org/calendar/6978839/sunday-cra
 fternoon-jan-12th
DTSTART:20250112T190000Z
DTEND:20250112T200000Z
END:VEVENT
END:VCALENDAR
