BEGIN:VCALENDAR
VERSION:2.0
PRODID:SchoolNow
CALSCALE:GREGORIAN
BEGIN:VEVENT
UID:117a508e-9d52-11ef-a4f1-0a58a9feac02
DTSTAMP:20241107T214847Z
SUMMARY:LOL Photo Club - Jan. 7th
LOCATION:Theatre
URL;VALUE=URI:https://www.wildernesslakecdd.org/calendar/6978656/lol-photo-
 club-jan-7th
DTSTART:20250107T233000Z
DTEND:20250108T003000Z
END:VEVENT
END:VCALENDAR
