BEGIN:VCALENDAR
VERSION:2.0
PRODID:SchoolNow
CALSCALE:GREGORIAN
BEGIN:VEVENT
UID:cb3edc8e-9d51-11ef-9ca4-0a58a9feac02
DTSTAMP:20241107T214649Z
SUMMARY:Bounce House Mania - Dec. 28th
URL;VALUE=URI:https://www.wildernesslakecdd.org/calendar/6978655/bounce-hou
 se-mania-dec-28th
DTSTART:20241228T180000Z
DTEND:20241228T210000Z
END:VEVENT
END:VCALENDAR
