BEGIN:VCALENDAR
VERSION:2.0
PRODID:SchoolNow
CALSCALE:GREGORIAN
BEGIN:VEVENT
UID:73e77414-9d51-11ef-ab21-0a58a9feac02
DTSTAMP:20241107T214423Z
SUMMARY:ARC Mtg - Dec. 23rd
URL;VALUE=URI:https://www.wildernesslakecdd.org/calendar/6978654/arc-mtg-de
 c-23rd
DTSTART:20241223T233000Z
DTEND:20241224T003000Z
END:VEVENT
END:VCALENDAR
