BEGIN:VCALENDAR
VERSION:2.0
PRODID:SchoolNow
CALSCALE:GREGORIAN
BEGIN:VEVENT
UID:51cd579a-9d51-11ef-b7e6-0a58a9feac02
DTSTAMP:20241107T214326Z
SUMMARY:Kids Holiday Workshop - Dec. 22nd
URL;VALUE=URI:https://www.wildernesslakecdd.org/calendar/6978653/kids-holid
 ay-workshop-dec-22nd
DTSTART:20241222T200000Z
DTEND:20241222T210000Z
END:VEVENT
END:VCALENDAR
