BEGIN:VCALENDAR
VERSION:2.0
PRODID:SchoolNow
CALSCALE:GREGORIAN
BEGIN:VEVENT
UID:f863f8c6-9d50-11ef-9067-0a58a9feac02
DTSTAMP:20241107T215502Z
SUMMARY:Core Health - Dec. 17th
URL;VALUE=URI:https://www.wildernesslakecdd.org/calendar/6978652/core-healt
 h-dec-17th
DTSTART:20241217T230000Z
DTEND:20241218T003000Z
END:VEVENT
END:VCALENDAR
