BEGIN:VCALENDAR
VERSION:2.0
PRODID:SchoolNow
CALSCALE:GREGORIAN
BEGIN:VEVENT
UID:be6484a6-9d50-11ef-9132-0affef277ea9
DTSTAMP:20241107T213918Z
SUMMARY:Ginger Bread Workshop - Dec. 15th
LOCATION:Activities Center
URL;VALUE=URI:https://www.wildernesslakecdd.org/calendar/6978651/ginger-bre
 ad-workshop-dec-15th
DTSTART:20241215T200000Z
DTEND:20241215T220000Z
END:VEVENT
END:VCALENDAR
