BEGIN:VCALENDAR
VERSION:2.0
PRODID:SchoolNow
CALSCALE:GREGORIAN
BEGIN:VEVENT
UID:4edc0492-9d50-11ef-9ae7-0a58a9feac02
DTSTAMP:20241107T213643Z
SUMMARY:Core Health - Dec. 10th
LOCATION:Activities Center
URL;VALUE=URI:https://www.wildernesslakecdd.org/calendar/6978650/core-healt
 h-dec-10th
DTSTART:20241210T230000Z
DTEND:20241211T003000Z
END:VEVENT
END:VCALENDAR
