BEGIN:VCALENDAR
VERSION:2.0
PRODID:SchoolNow
CALSCALE:GREGORIAN
BEGIN:VEVENT
UID:c22774be-9d4f-11ef-b180-0a58a9feac02
DTSTAMP:20241107T213215Z
SUMMARY:ARC Mtg - Dec. 9th
LOCATION:Activities Center
URL;VALUE=URI:https://www.wildernesslakecdd.org/calendar/6978649/arc-mtg-de
 c-9th
DTSTART:20241209T233000Z
DTEND:20241210T003000Z
END:VEVENT
END:VCALENDAR
