BEGIN:VCALENDAR
VERSION:2.0
PRODID:SchoolNow
CALSCALE:GREGORIAN
BEGIN:VEVENT
UID:7554ce7a-9d4f-11ef-8b31-0a58a9feac02
DTSTAMP:20241107T213006Z
SUMMARY:Turkey Trot - Nov. 28th
LOCATION:Ranger Station
URL;VALUE=URI:https://www.wildernesslakecdd.org/calendar/6978647/turkey-tro
 t-nov-28th
DTSTART:20241128T130000Z
DTEND:20241128T140000Z
END:VEVENT
END:VCALENDAR
