BEGIN:VCALENDAR
VERSION:2.0
PRODID:SchoolNow
CALSCALE:GREGORIAN
BEGIN:VEVENT
UID:6d33f314-9d4b-11ef-91ea-0a58a9feac02
DTSTAMP:20241107T220802Z
SUMMARY:Water Aerobics - Nov. 13th
URL;VALUE=URI:https://www.wildernesslakecdd.org/calendar/6978645/water-aero
 bics-nov-13th
DTSTART:20241113T140000Z
DTEND:20241113T150000Z
END:VEVENT
END:VCALENDAR
