BEGIN:VCALENDAR
VERSION:2.0
PRODID:SchoolNow
CALSCALE:GREGORIAN
BEGIN:VEVENT
UID:fb77dfce-9d4a-11ef-8b66-0ec2ddfbb079
DTSTAMP:20241107T205804Z
SUMMARY:Walking - Nov. 13th
URL;VALUE=URI:https://www.wildernesslakecdd.org/calendar/6978644/walking-no
 v-13th
DTSTART:20241113T143000Z
DTEND:20241113T154500Z
END:VEVENT
END:VCALENDAR
