BEGIN:VCALENDAR
VERSION:2.0
PRODID:SchoolNow
CALSCALE:GREGORIAN
BEGIN:VEVENT
UID:edc263c8-9d44-11ef-8077-0a58a9feac02
DTSTAMP:20241107T205506Z
SUMMARY:Yoga - Nov. 12th
URL;VALUE=URI:https://www.wildernesslakecdd.org/calendar/6978642/yoga-nov-1
 2th
DTSTART:20241112T134000Z
DTEND:20241112T145500Z
END:VEVENT
END:VCALENDAR
