BEGIN:VCALENDAR
VERSION:2.0
PRODID:SchoolNow
CALSCALE:GREGORIAN
BEGIN:VEVENT
UID:9c83eacc-9d44-11ef-be1a-0a58a9feac02
DTSTAMP:20241107T201228Z
SUMMARY:Water Aerobics - Nov. 11th
URL;VALUE=URI:https://www.wildernesslakecdd.org/calendar/6978641/water-aero
 bics-nov-11th
DTSTART:20241111T140000Z
DTEND:20241111T150000Z
END:VEVENT
END:VCALENDAR
