BEGIN:VCALENDAR
VERSION:2.0
PRODID:SchoolNow
CALSCALE:GREGORIAN
BEGIN:VEVENT
UID:fd571cf8-9d43-11ef-b011-0ebbf1049677
DTSTAMP:20241107T200801Z
SUMMARY:Walking - Nov. 11th
LOCATION:Activities Center
URL;VALUE=URI:https://www.wildernesslakecdd.org/calendar/6978640/walking-no
 v-11th
DTSTART:20241111T143000Z
DTEND:20241111T154500Z
END:VEVENT
END:VCALENDAR
