BEGIN:VCALENDAR
VERSION:2.0
PRODID:SchoolNow
CALSCALE:GREGORIAN
BEGIN:VEVENT
UID:78d687fc-9d43-11ef-b7e0-0a58a9feac02
DTSTAMP:20241107T200608Z
SUMMARY:Walking - Nov. 8th
URL;VALUE=URI:https://www.wildernesslakecdd.org/calendar/6978639/walking-no
 v-8h
DTSTART:20241108T143000Z
DTEND:20241108T154500Z
END:VEVENT
END:VCALENDAR
