BEGIN:VCALENDAR
VERSION:2.0
PRODID:SchoolNow
CALSCALE:GREGORIAN
BEGIN:VEVENT
UID:50c4448e-9d43-11ef-985d-02bf63dc6269
DTSTAMP:20241107T200818Z
SUMMARY:Water Aerobics - Nov. 8th
LOCATION:Lap Pool
URL;VALUE=URI:https://www.wildernesslakecdd.org/calendar/6978638/water-aero
 bics-nov-8th
DTSTART:20241108T140000Z
DTEND:20241108T150000Z
END:VEVENT
END:VCALENDAR
