BEGIN:VCALENDAR
VERSION:2.0
PRODID:SchoolNow
CALSCALE:GREGORIAN
BEGIN:VEVENT
UID:2aa02234-9986-11ef-8a89-0affd988bf77
DTSTAMP:20241108T204124Z
SUMMARY:Water Aerobics - Nov. 18th
LOCATION:Lap Pool
URL;VALUE=URI:https://www.wildernesslakecdd.org/calendar/6949087/water-aero
 bics-nov-18th
DTSTART:20241118T140000Z
DTEND:20241118T150000Z
END:VEVENT
END:VCALENDAR
