BEGIN:VCALENDAR
VERSION:2.0
PRODID:SchoolNow
CALSCALE:GREGORIAN
BEGIN:VEVENT
UID:fd4be3ae-9958-11ef-b351-0a58a9feac02
DTSTAMP:20241102T202905Z
SUMMARY:Photography Class - Nov. 6th
LOCATION:Theatre
URL;VALUE=URI:https://www.wildernesslakecdd.org/calendar/6947709/photograph
 y-class
DTSTART:20241106T230000Z
DTEND:20241107T010000Z
END:VEVENT
END:VCALENDAR
