BEGIN:VCALENDAR
VERSION:2.0
PRODID:SchoolNow
CALSCALE:GREGORIAN
BEGIN:VEVENT
UID:b31f7a16-9958-11ef-8ae0-0a58a9feac02
DTSTAMP:20241102T202611Z
SUMMARY:Water Aerobics - Nov. 5th
LOCATION:Lap Pool
URL;VALUE=URI:https://www.wildernesslakecdd.org/calendar/6947708/water-aero
 bics-nov-5th
DTSTART:20241105T140000Z
DTEND:20241105T150000Z
END:VEVENT
END:VCALENDAR
