BEGIN:VCALENDAR
VERSION:2.0
PRODID:SchoolNow
CALSCALE:GREGORIAN
BEGIN:VEVENT
UID:b1376b2a-9951-11ef-a505-0a58a9feac02
DTSTAMP:20241102T193601Z
SUMMARY:Water Aerobics - Nov. 6th
LOCATION:Lap  pool
URL;VALUE=URI:https://www.wildernesslakecdd.org/calendar/6947706/water-aero
 bics-nov-6th
DTSTART:20241106T140000Z
DTEND:20241106T150000Z
END:VEVENT
END:VCALENDAR
