BEGIN:VCALENDAR
VERSION:2.0
PRODID:SchoolNow
CALSCALE:GREGORIAN
BEGIN:VEVENT
UID:49a44fd2-9951-11ef-8147-02b4517d4da5
DTSTAMP:20241102T193307Z
SUMMARY:Walking Class - Nov. 6th
LOCATION:Activities Center
URL;VALUE=URI:https://www.wildernesslakecdd.org/calendar/6947705/walking-cl
 ass-nov-6th
DTSTART:20241106T143000Z
DTEND:20241106T154500Z
END:VEVENT
END:VCALENDAR
