BEGIN:VCALENDAR
VERSION:2.0
PRODID:SchoolNow
CALSCALE:GREGORIAN
BEGIN:VEVENT
UID:9e219b4c-9950-11ef-bfdf-0e17ba3c6533
DTSTAMP:20241102T192820Z
SUMMARY:Food Truck - Nov. 27th
URL;VALUE=URI:https://www.wildernesslakecdd.org/calendar/6947702/food-truck
 -nov-27th
DTSTART:20241127T220000Z
DTEND:20241128T010000Z
END:VEVENT
END:VCALENDAR
