BEGIN:VCALENDAR
VERSION:2.0
PRODID:SchoolNow
CALSCALE:GREGORIAN
BEGIN:VEVENT
UID:40ea117a-9950-11ef-8434-0a58a9feac02
DTSTAMP:20241102T192641Z
SUMMARY:ARC Meeting Nov. 25th
LOCATION:Activities Center
URL;VALUE=URI:https://www.wildernesslakecdd.org/calendar/6947698/arc-meetin
 g-nov-25th
DTSTART:20241125T233000Z
DTEND:20241126T003000Z
END:VEVENT
END:VCALENDAR
