BEGIN:VCALENDAR
VERSION:2.0
PRODID:SchoolNow
CALSCALE:GREGORIAN
BEGIN:VEVENT
UID:16f607f2-9950-11ef-b9dc-0a58a9feac02
DTSTAMP:20241102T192433Z
SUMMARY:Story Time - Nov. 25th
LOCATION:Nature Center
URL;VALUE=URI:https://www.wildernesslakecdd.org/calendar/6947697/story-time
 -nov-25th
DTSTART:20241125T150000Z
DTEND:20241125T160000Z
END:VEVENT
END:VCALENDAR
