BEGIN:VCALENDAR
VERSION:2.0
PRODID:SchoolNow
CALSCALE:GREGORIAN
BEGIN:VEVENT
UID:da32ab72-994f-11ef-bc72-0a58a9feac02
DTSTAMP:20241102T192251Z
SUMMARY:Tampa Bay Tailgate Party - Nov. 24th
LOCATION:Activities Center
URL;VALUE=URI:https://www.wildernesslakecdd.org/calendar/6947696/tampa-bay-
 tailgate-party-nov-24th
DTSTART:20241124T173000Z
DTEND:20241124T210000Z
END:VEVENT
END:VCALENDAR
