BEGIN:VCALENDAR
VERSION:2.0
PRODID:SchoolNow
CALSCALE:GREGORIAN
BEGIN:VEVENT
UID:7e01fa6a-994f-11ef-a848-0a58a9feac02
DTSTAMP:20241102T192016Z
SUMMARY:Candle Making - Nov. 23rd
LOCATION:Activities Center
URL;VALUE=URI:https://www.wildernesslakecdd.org/calendar/6947695/candle-mak
 ing-nov-23rd
DTSTART:20241123T220000Z
DTEND:20241124T000000Z
END:VEVENT
END:VCALENDAR
