BEGIN:VCALENDAR
VERSION:2.0
PRODID:SchoolNow
CALSCALE:GREGORIAN
BEGIN:VEVENT
UID:c7f9b564-994e-11ef-8802-0affdeccd313
DTSTAMP:20241102T191547Z
SUMMARY:Pumpkin Art - Nov. 22nd
LOCATION:Activities Center
URL;VALUE=URI:https://www.wildernesslakecdd.org/calendar/6947694/pumpkin-ar
 t-nov-22nd
DTSTART:20241122T233000Z
DTEND:20241123T013000Z
END:VEVENT
END:VCALENDAR
