BEGIN:VCALENDAR
VERSION:2.0
PRODID:SchoolNow
CALSCALE:GREGORIAN
BEGIN:VEVENT
UID:9babb1c4-994e-11ef-8b96-0affd5c2892b
DTSTAMP:20241102T191356Z
SUMMARY:Food Truck - Nov. 20th
LOCATION:Lodge Driveway
URL;VALUE=URI:https://www.wildernesslakecdd.org/calendar/6947693/food-truck
 -nov-20th
DTSTART:20241120T220000Z
DTEND:20241121T010000Z
END:VEVENT
END:VCALENDAR
