BEGIN:VCALENDAR
VERSION:2.0
PRODID:SchoolNow
CALSCALE:GREGORIAN
BEGIN:VEVENT
UID:64099c40-994e-11ef-b00d-0a58a9feac02
DTSTAMP:20241102T191223Z
SUMMARY:HOA Meeting - Nov. 19th
LOCATION:Activities Center
URL;VALUE=URI:https://www.wildernesslakecdd.org/calendar/6947692/hoa-meetin
 g-nov-19th
DTSTART:20241119T233000Z
DTEND:20241120T003000Z
END:VEVENT
END:VCALENDAR
