BEGIN:VCALENDAR
VERSION:2.0
PRODID:SchoolNow
CALSCALE:GREGORIAN
BEGIN:VEVENT
UID:30ffd4a4-994e-11ef-a87e-0a58a9feac02
DTSTAMP:20241102T191058Z
SUMMARY:Story Time - Nov. 18th
LOCATION:Nature Center
URL;VALUE=URI:https://www.wildernesslakecdd.org/calendar/6947691/story-time
 -nov-18th
DTSTART:20241118T150000Z
DTEND:20241118T160000Z
END:VEVENT
END:VCALENDAR
