BEGIN:VCALENDAR
VERSION:2.0
PRODID:SchoolNow
CALSCALE:GREGORIAN
BEGIN:VEVENT
UID:ba6dd8b8-994d-11ef-89e2-0a58a9feac02
DTSTAMP:20241109T164549Z
SUMMARY:Sharing & Caring - Nov. 17th
LOCATION:Activities Center
URL;VALUE=URI:https://www.wildernesslakecdd.org/calendar/6947690/sharing-ca
 ring-nov-17th
DTSTART:20241117T220000Z
DTEND:20241118T000000Z
END:VEVENT
END:VCALENDAR
