BEGIN:VCALENDAR
VERSION:2.0
PRODID:SchoolNow
CALSCALE:GREGORIAN
BEGIN:VEVENT
UID:f505614a-994c-11ef-a7fa-02ee0d331269
DTSTAMP:20241102T190258Z
SUMMARY:Pickleball Tournament - Nov. 17th
LOCATION:Tennis Courts
URL;VALUE=URI:https://www.wildernesslakecdd.org/calendar/6947689/pickleball
 -tournament-nov-17th
DTSTART:20241117T180000Z
DTEND:20241117T200000Z
END:VEVENT
END:VCALENDAR
