BEGIN:VCALENDAR
VERSION:2.0
PRODID:SchoolNow
CALSCALE:GREGORIAN
BEGIN:VEVENT
UID:b33e7710-994c-11ef-82e4-0a58a9feac02
DTSTAMP:20241102T190017Z
SUMMARY:Food Truck - Nov. 13th
LOCATION:Lodge Driveway
URL;VALUE=URI:https://www.wildernesslakecdd.org/calendar/6947688/food-truck
 -nov-13th
DTSTART:20241113T220000Z
DTEND:20241114T010000Z
END:VEVENT
END:VCALENDAR
