BEGIN:VCALENDAR
VERSION:2.0
PRODID:SchoolNow
CALSCALE:GREGORIAN
BEGIN:VEVENT
UID:63e2ca7c-994c-11ef-ac07-0269c7ed4495
DTSTAMP:20241102T185804Z
SUMMARY:ARC Meeting - Nov. 11
LOCATION:Activities Center
URL;VALUE=URI:https://www.wildernesslakecdd.org/calendar/6947687/arc-meetin
 g-nov-11
DTSTART:20241111T233000Z
DTEND:20241112T003000Z
END:VEVENT
END:VCALENDAR
