BEGIN:VCALENDAR
VERSION:2.0
PRODID:SchoolNow
CALSCALE:GREGORIAN
BEGIN:VEVENT
UID:3580db10-994c-11ef-a390-0a58a9feac02
DTSTAMP:20241102T185646Z
SUMMARY:Story Time - Nov. 11th
LOCATION:Nature Center
URL;VALUE=URI:https://www.wildernesslakecdd.org/calendar/6947686/story-time
 -nov-11th
DTSTART:20241111T150000Z
DTEND:20241111T160000Z
END:VEVENT
END:VCALENDAR
