BEGIN:VCALENDAR
VERSION:2.0
PRODID:SchoolNow
CALSCALE:GREGORIAN
BEGIN:VEVENT
UID:ff9cca7c-994b-11ef-845f-0e451eb02111
DTSTAMP:20241102T185911Z
SUMMARY:Sunday Crafternoon - Nov. 10th
LOCATION:Nature Center Classroom
URL;VALUE=URI:https://www.wildernesslakecdd.org/calendar/6947685/sunday-cra
 fternoon
DTSTART:20241110T200000Z
DTEND:20241110T210000Z
END:VEVENT
END:VCALENDAR
