BEGIN:VCALENDAR
VERSION:2.0
PRODID:SchoolNow
CALSCALE:GREGORIAN
BEGIN:VEVENT
UID:739eaa22-994b-11ef-a452-0a58a9feac02
DTSTAMP:20241102T185121Z
SUMMARY:3v3 Basketball Tournament - Nov. 9th
LOCATION:Basketball Court
URL;VALUE=URI:https://www.wildernesslakecdd.org/calendar/6947684/3v3-basket
 ball-tournament-nov-9th
DTSTART:20241109T210000Z
DTEND:20241110T000000Z
END:VEVENT
END:VCALENDAR
