BEGIN:VCALENDAR
VERSION:2.0
PRODID:SchoolNow
CALSCALE:GREGORIAN
BEGIN:VEVENT
UID:f7276cd6-994a-11ef-ad4a-0a58a9feac02
DTSTAMP:20241102T184834Z
SUMMARY:Food Truck - Nov. 6th
LOCATION:Lodge Driveway
URL;VALUE=URI:https://www.wildernesslakecdd.org/calendar/6947683/food-truck
 -nov-6th
DTSTART:20241106T220000Z
DTEND:20241107T010000Z
END:VEVENT
END:VCALENDAR
