BEGIN:VCALENDAR
VERSION:2.0
PRODID:SchoolNow
CALSCALE:GREGORIAN
BEGIN:VEVENT
UID:bdce50ee-994a-11ef-8188-0affd988bf77
DTSTAMP:20241102T184616Z
SUMMARY:Core Health - Nov. 5th
LOCATION:Activities Center
URL;VALUE=URI:https://www.wildernesslakecdd.org/calendar/6947682/core-healt
 h-nov-5th
DTSTART:20241105T230000Z
DTEND:20241106T000000Z
END:VEVENT
END:VCALENDAR
