BEGIN:VCALENDAR
VERSION:2.0
PRODID:SchoolNow
CALSCALE:GREGORIAN
BEGIN:VEVENT
UID:170247a2-994a-11ef-b632-0a58a9feac02
DTSTAMP:20241102T184136Z
SUMMARY:Water Aerobics - Nov. 4th
LOCATION:Lap Pool
URL;VALUE=URI:https://www.wildernesslakecdd.org/calendar/6947681/water-aero
 bics-nov-4th
DTSTART:20241104T140000Z
DTEND:20241104T150000Z
END:VEVENT
END:VCALENDAR
