BEGIN:VCALENDAR
VERSION:2.0
PRODID:SchoolNow
CALSCALE:GREGORIAN
BEGIN:VEVENT
UID:c4c41cea-9949-11ef-a002-02ee0d331269
DTSTAMP:20241102T183918Z
SUMMARY:Yoga - Nov. 5th
LOCATION:Activities Center
URL;VALUE=URI:https://www.wildernesslakecdd.org/calendar/6947680/yoga-nov-5
 th
DTSTART:20241105T134000Z
DTEND:20241105T145500Z
END:VEVENT
END:VCALENDAR
