BEGIN:VCALENDAR
VERSION:2.0
PRODID:SchoolNow
CALSCALE:GREGORIAN
BEGIN:VEVENT
UID:337b94de-9949-11ef-ac10-0affdeccd313
DTSTAMP:20241102T193341Z
SUMMARY:Walking  Class - Nov. 4th
LOCATION:Activities Center
URL;VALUE=URI:https://www.wildernesslakecdd.org/calendar/6947679/walking-cl
 ass-nov-4th
DTSTART:20241104T143000Z
DTEND:20241104T154500Z
END:VEVENT
END:VCALENDAR
