BEGIN:VCALENDAR
VERSION:2.0
PRODID:SchoolNow
CALSCALE:GREGORIAN
BEGIN:VEVENT
UID:bf9bce46-9946-11ef-9eb3-0affda8f5c65
DTSTAMP:20241102T182119Z
SUMMARY:Story Time - Nov. 4th
URL;VALUE=URI:https://www.wildernesslakecdd.org/calendar/6947677/story-time
DTSTART:20241104T150000Z
DTEND:20241104T160000Z
END:VEVENT
END:VCALENDAR
