BEGIN:VCALENDAR
VERSION:2.0
PRODID:SchoolNow
CALSCALE:GREGORIAN
BEGIN:VEVENT
UID:8c0f5f66-9946-11ef-af01-0a58a9feac02
DTSTAMP:20241102T182131Z
SUMMARY:Music Bingo - Nov. 3rd
URL;VALUE=URI:https://www.wildernesslakecdd.org/calendar/6947676/music-bing
 o
DTSTART:20241103T190000Z
DTEND:20241103T210000Z
END:VEVENT
END:VCALENDAR
