BEGIN:VCALENDAR
VERSION:2.0
PRODID:SchoolNow
CALSCALE:GREGORIAN
BEGIN:VEVENT
UID:e25542fc-5e39-11ef-aa9a-0a58a9feac02
DTSTAMP:20240819T144841Z
SUMMARY:Community Garage Sale
URL;VALUE=URI:https://www.wildernesslakecdd.org/calendar/6425306/community-
 garage-sale
DTSTART:20241019T120000Z
DTEND:20241019T190000Z
END:VEVENT
END:VCALENDAR
