BEGIN:VCALENDAR
VERSION:2.0
PRODID:SchoolNow
CALSCALE:GREGORIAN
BEGIN:VEVENT
UID:d3f7e7de-5a54-11ef-bb30-0a58a9feac02
DTSTAMP:20250131T201516Z
SUMMARY:CDD Board Meeting - Feb. 2025
LOCATION:The Preserve at Wilderness Lake Lodge\, located at 21320 Wildernes
 s Lake Boulevard\, Land O' Lakes\, FL 34637
URL;VALUE=URI:https://www.wildernesslakecdd.org/calendar/6400058/cdd-board-
 meeting-feb-2025
DTSTART:20250205T233000Z
DTEND:20250206T020000Z
ATTACH;FILENAME=2025-02-05 Revised Agenda Package.pdf;FMTTYPE=application/p
 df:https://campussuite-storage.s3.amazonaws.com/prod/1558874/21caec5e-ea98
 -11e9-8581-0a20d2c7fac4/2909828/04089900-e010-11ef-a91e-0a58a9feac02/file/
 2025-02-05 Revised Agenda Package.pdf
END:VEVENT
END:VCALENDAR
