BEGIN:VCALENDAR
VERSION:2.0
PRODID:SchoolNow
CALSCALE:GREGORIAN
BEGIN:VEVENT
UID:95b38adc-5a54-11ef-aafb-028fa8c6e63b
DTSTAMP:20241231T214034Z
SUMMARY:CDD Board Meeting - Jan. 2025
LOCATION:The Preserve at Wilderness Lake Lodge\, located at 21320 Wildernes
 s Lake Boulevard\, Land O' Lakes\, FL 34637
URL;VALUE=URI:https://www.wildernesslakecdd.org/calendar/6400057/cdd-board-
 meeting-jan-2025
DTSTART:20250108T143000Z
DTEND:20250108T183000Z
ATTACH;FILENAME=2025-01-08 Agenda Package.pdf;FMTTYPE=application/pdf:https
 ://campussuite-storage.s3.amazonaws.com/prod/1558874/21caec5e-ea98-11e9-85
 81-0a20d2c7fac4/2897016/8de78e4c-c7bf-11ef-99e2-0affd909ef6b/file/2025-01-
 08 Agenda Package.pdf
END:VEVENT
END:VCALENDAR
