BEGIN:VCALENDAR
VERSION:2.0
PRODID:SchoolNow
CALSCALE:GREGORIAN
BEGIN:VEVENT
UID:b0b9966c-564b-11ef-9c8d-0a58a9feac02
DTSTAMP:20240917T193647Z
SUMMARY:CDD Workshop - Ethics Training - Sept. 2024
LOCATION:The Preserve at Wilderness Lake Lodge\, located at 21320 Wildernes
 s Lake Boulevard\, Land O' Lakes\, FL 34637
URL;VALUE=URI:https://www.wildernesslakecdd.org/calendar/6376159/cdd-worksh
 op-ethics-training-sept-2024
DTSTART:20240924T133000Z
DTEND:20240924T173000Z
ATTACH;FILENAME=2024-09-24 Workshop Agenda Package.pdf;FMTTYPE=application/
 pdf:https://campussuite-storage.s3.amazonaws.com/prod/1558874/21caec5e-ea9
 8-11e9-8581-0a20d2c7fac4/2848283/1c127b28-752c-11ef-b54f-023e372d10e3/file
 /2024-09-24 Workshop Agenda Package.pdf
END:VEVENT
END:VCALENDAR
